1.0000000000
0.0000000000
0.0000000000
-1.0000000000
-446519.4999000011
-1287689.4999000009
