1.0000000000
0.0000000000
0.0000000000
-1.0000000000
3.5000000000
1275.5000000000
