0.0000995061
0.0000000000
0.0000000000
-0.0000995061
16.9518167334
48.2392149973
