0.01
0
0
-0.01
388999.0865899153
4647544.267085793
