0.01
0
0
-0.01
-19.65
15.757
