0.0144398
0
0
-0.0144398
-19.6477801
15.757519270075
