8.1835534647
0.0000000000
0.0000000000
-8.1835534647
443701.9103938905
5418173.2772109620
