1.0000000000
0.0000000000
0.0000000000
-1.0000000000
-433839.4998987326
-1153667.4999001957
