0.5000000000
0.0000000000
0.0000000000
-0.5000000000
-264456.2910557808
-1237487.4490257481
