0.5000000000
0.0000000000
0.0000000000
-0.5000000000
-264674.2910557808
-1237319.9490257481
