0.5000000000
0.0000000000
0.0000000000
-0.5000000000
-264469.7910557808
-1237437.9490257481
