30.0000000000
0.0000000000
0.0000000000
-30.0000000000
-266364.7959368375
-1237109.0541562070
