30.0000000000
0.0000000000
0.0000000000
-30.0000000000
489300.0000000000
5531700.0000000000
