30.0000000000
0.0000000000
0.0000000000
-30.0000000000
489600.0000000000
5531400.0000000000
