30.0000000000
0.0000000000
0.0000000000
-30.0000000000
-297223.5777937144
-1103231.7701189925
