0.5000000000
0.0000000000
0.0000000000
-0.5000000000
-264469.8277937144
-1237438.0201189925
