30.0000000000
0.0000000000
0.0000000000
-30.0000000000
-264463.5777937144
-1237481.7701189925
