100.0000000000
0.0000000000
0.0000000000
-100.0000000000
-264479.9462390493
-1237484.4252493198
